BEGIN:VCALENDAR
VERSION:2.0
PRODID:-//Greenway Network - ECPv6.0.9//NONSGML v1.0//EN
CALSCALE:GREGORIAN
METHOD:PUBLISH
X-WR-CALNAME:Greenway Network
X-ORIGINAL-URL:https://greenwaydev.tpidev7.com
X-WR-CALDESC:Events for Greenway Network
REFRESH-INTERVAL;VALUE=DURATION:PT1H
X-Robots-Tag:noindex
X-PUBLISHED-TTL:PT1H
BEGIN:VTIMEZONE
TZID:America/Chicago
BEGIN:DAYLIGHT
TZOFFSETFROM:-0600
TZOFFSETTO:-0500
TZNAME:CDT
DTSTART:20240310T080000
END:DAYLIGHT
BEGIN:STANDARD
TZOFFSETFROM:-0500
TZOFFSETTO:-0600
TZNAME:CST
DTSTART:20241103T070000
END:STANDARD
END:VTIMEZONE
BEGIN:VEVENT
DTSTART;TZID=America/Chicago:20240904T083000
DTEND;TZID=America/Chicago:20240905T170000
DTSTAMP:20260422T170019
CREATED:20240206T024956Z
LAST-MODIFIED:20240611T020116Z
UID:4252-1725438600-1725555600@greenwaydev.tpidev7.com
SUMMARY:River Soundings 2024
DESCRIPTION:River Soundings is a conference for people who live near\, work on\, rely on and love the Missouri River. This annual event includes panel discussions on issues related to big rivers and the Missouri River in particular. Each year speakers and panelists who are experts from around the country gather to share and discuss challenges and success stories. Our goal is to bring together people from up and down the river to look for common goals and active strategies to get there. \nThe 2024 theme is “Big Rivers and Communities” and will be held at Powder Valley Conservation Nature Center on September 4 and 5\, Wednesday and Thursday. The event is brought to you by the Missouri Department of Conservation Streams Unit\, Greenway Network\, and more. For details and to register\, go to – http://greenwaydev.tpidev7.com/river-soundings/
URL:https://greenwaydev.tpidev7.com/event/river-soundings-2024/
LOCATION:Powder Valley Nature Center\, 11715 Cragwold Rd\, Kirkwood\, MO\, 63122\, United States
END:VEVENT
BEGIN:VEVENT
DTSTART;TZID=America/Chicago:20241009T180000
DTEND;TZID=America/Chicago:20241009T203000
DTSTAMP:20260422T170019
CREATED:20241008T154122Z
LAST-MODIFIED:20241008T154122Z
UID:4471-1728496800-1728505800@greenwaydev.tpidev7.com
SUMMARY:Big Muddy Speaker Series Sept 2024
DESCRIPTION:Potluck appetizer social hour at 6pm; presentation at 7pm by Rachel Loomis\, Mississippi River Institute Manager\, on the Living Lands and Waters Barge on the St. Louis riverfront October 9. Space is strictly limited\, so sign up as soon possible at both-\nhttp://greenwaydev.tpidev7.com/2024/09/09/big-muddy-speaker-series-october-9-2024-on-the-living-lands-and-waters-barge/\nhttps://form.jotform.com/LLWMTP/participant-consent-waiver
URL:https://greenwaydev.tpidev7.com/event/bmss-sept-2024/
END:VEVENT
BEGIN:VEVENT
DTSTART;TZID=America/Chicago:20241026T090000
DTEND;TZID=America/Chicago:20241027T130000
DTSTAMP:20260422T170019
CREATED:20240206T023759Z
LAST-MODIFIED:20240228T203841Z
UID:4250-1729933200-1730034000@greenwaydev.tpidev7.com
SUMMARY:Fall 2024 Dardenne Creek Monitoring
DESCRIPTION:Join Greenway Network on this twice-a-year adventure to monitor Dardenne Creek. Experienced Stream Team volunteers can go out to one or more sites and do a complete water quality monitoring protocol. This is a great opportunity for anyone who is new to Stream Team and wants to test their skills with some experienced backup.  People who are interested in learning more about Stream Team or water quality monitoring are also invited to participate\, starting at 9AM on Saturday and/or Sunday. \nPlease email greenwaynetwork@gmail.com to volunteer and receive details for this important and fun event.
URL:https://greenwaydev.tpidev7.com/event/fall2024-dardennecreek-monitoring/
END:VEVENT
END:VCALENDAR