BEGIN:VCALENDAR
VERSION:2.0
PRODID:-//Greenway Network - ECPv6.0.9//NONSGML v1.0//EN
CALSCALE:GREGORIAN
METHOD:PUBLISH
X-ORIGINAL-URL:https://greenwaydev.tpidev7.com
X-WR-CALDESC:Events for Greenway Network
REFRESH-INTERVAL;VALUE=DURATION:PT1H
X-Robots-Tag:noindex
X-PUBLISHED-TTL:PT1H
BEGIN:VTIMEZONE
TZID:America/Chicago
BEGIN:DAYLIGHT
TZOFFSETFROM:-0600
TZOFFSETTO:-0500
TZNAME:CDT
DTSTART:20240310T080000
END:DAYLIGHT
BEGIN:STANDARD
TZOFFSETFROM:-0500
TZOFFSETTO:-0600
TZNAME:CST
DTSTART:20241103T070000
END:STANDARD
END:VTIMEZONE
BEGIN:VEVENT
DTSTART;TZID=America/Chicago:20240323T070000
DTEND;TZID=America/Chicago:20240323T150000
DTSTAMP:20260423T023031
CREATED:20240203T155856Z
LAST-MODIFIED:20240305T014713Z
UID:4240-1711177200-1711206000@greenwaydev.tpidev7.com
SUMMARY:2024 Team Leader Academy - Capstone Clean Up
DESCRIPTION:March 23  North City/County Capstone Clean Up\,  7 am – 3 pm.\n\nThe Capstone Clean Up is for anyone who has completed both the Team Leader Special Handling Training and the Team Leader Scouting Session. You will be paired with an experienced Team Leader to lead a group of volunteers on site for a clean up. Dress for the weather. Wear sturdy boots or shoes. Bring a water bottle and your team leader backpack.\n\nThe Capstone Clean Up will meet at Columbia Bottom Conservation area (801 Strodtman Rd\, St. Louis\, MO 63138) and divide up for locations in Castle Point\, Wellston\, and Spanish Lake.\n\nREGISTER AT http://greenwaydev.tpidev7.com/team-leader-academy/
URL:https://greenwaydev.tpidev7.com/event/2024-tla-capstone-clean-up/
END:VEVENT
END:VCALENDAR