BEGIN:VCALENDAR
VERSION:2.0
PRODID:-//Greenway Network - ECPv6.0.9//NONSGML v1.0//EN
CALSCALE:GREGORIAN
METHOD:PUBLISH
X-ORIGINAL-URL:https://greenwaydev.tpidev7.com
X-WR-CALDESC:Events for Greenway Network
REFRESH-INTERVAL;VALUE=DURATION:PT1H
X-Robots-Tag:noindex
X-PUBLISHED-TTL:PT1H
BEGIN:VTIMEZONE
TZID:America/Chicago
BEGIN:DAYLIGHT
TZOFFSETFROM:-0600
TZOFFSETTO:-0500
TZNAME:CDT
DTSTART:20240310T080000
END:DAYLIGHT
BEGIN:STANDARD
TZOFFSETFROM:-0500
TZOFFSETTO:-0600
TZNAME:CST
DTSTART:20241103T070000
END:STANDARD
END:VTIMEZONE
BEGIN:VEVENT
DTSTART;TZID=America/Chicago:20240309T090000
DTEND;TZID=America/Chicago:20240309T150000
DTSTAMP:20260423T023107
CREATED:20240203T155639Z
LAST-MODIFIED:20240203T160050Z
UID:4238-1709974800-1709996400@greenwaydev.tpidev7.com
SUMMARY:2024 Team Leader Academy - Scouting
DESCRIPTION:March 9 Team Leader Scouting Seminar\,  9 am – 3 pm.\n\nScouting Training is for anyone who has completed the Team Leader Special Handling Training in person and is planning on taking volunteers outdoors. It is a hands on experience where you will learn how to estimate the amount of trash\, evaluate the site for ability and safety\, assess logistics and determine how many volunteers are needed. There will be a brief classroom discussion followed by in the field learning. We will assess a site and then carryout the actual clean up to compare our estimate with actual data. Dress for the weather. Wear sturdy boots or shoes. Bring a water bottle and you team leader backpack.\n\nThe training will be held from 9 am to 3 pm at Columbia Bottom Conservation area (801 Strodtman Rd\, St. Louis\, MO 63138). Lunch will be provided\, but a $10 donation is appreciated to help offset the cost.\n\nREGISTER AT http://greenwaydev.tpidev7.com/team-leader-academy/
URL:https://greenwaydev.tpidev7.com/event/2024-tla-scouting/
END:VEVENT
END:VCALENDAR