BEGIN:VCALENDAR
VERSION:2.0
PRODID:-//Greenway Network - ECPv6.0.9//NONSGML v1.0//EN
CALSCALE:GREGORIAN
METHOD:PUBLISH
X-ORIGINAL-URL:https://greenwaydev.tpidev7.com
X-WR-CALDESC:Events for Greenway Network
REFRESH-INTERVAL;VALUE=DURATION:PT1H
X-Robots-Tag:noindex
X-PUBLISHED-TTL:PT1H
BEGIN:VTIMEZONE
TZID:America/Chicago
BEGIN:DAYLIGHT
TZOFFSETFROM:-0600
TZOFFSETTO:-0500
TZNAME:CDT
DTSTART:20240310T080000
END:DAYLIGHT
BEGIN:STANDARD
TZOFFSETFROM:-0500
TZOFFSETTO:-0600
TZNAME:CST
DTSTART:20241103T070000
END:STANDARD
END:VTIMEZONE
BEGIN:VEVENT
DTSTART;TZID=America/Chicago:20240224T090000
DTEND;TZID=America/Chicago:20240224T160000
DTSTAMP:20260423T043236
CREATED:20240203T155402Z
LAST-MODIFIED:20240203T160026Z
UID:4236-1708765200-1708790400@greenwaydev.tpidev7.com
SUMMARY:2024 Team Leader Academy - Special Handling
DESCRIPTION:February 24 Team Leader Special Handling Seminar\, 9 am – 4 pm.\n\nThis training is for anyone who is planning or pre-scouting for cleanups and works with volunteers cleaning up floodplains\, rivers and streams. It addresses how to identify\, mark and when and where to report hazards such as barrels\, tanks\, needles and more. The Program will be held at Cape Girardeau Conservation Nature Center. (2289 County Park Dr\, Cape Girardeau\, MO 63701)\n\nLunch will be provided. A $10 donation to offset the cost is appreciated. Team Leader Backpacks will be provided upon completion of the seminar.\n\nREGISTER AT http://greenwaydev.tpidev7.com/team-leader-academy/
URL:https://greenwaydev.tpidev7.com/event/2024-tla-special-handling/
END:VEVENT
END:VCALENDAR