BEGIN:VCALENDAR
VERSION:2.0
PRODID:-//Greenway Network - ECPv6.0.9//NONSGML v1.0//EN
CALSCALE:GREGORIAN
METHOD:PUBLISH
X-WR-CALNAME:Greenway Network
X-ORIGINAL-URL:https://greenwaydev.tpidev7.com
X-WR-CALDESC:Events for Greenway Network
REFRESH-INTERVAL;VALUE=DURATION:PT1H
X-Robots-Tag:noindex
X-PUBLISHED-TTL:PT1H
BEGIN:VTIMEZONE
TZID:America/Chicago
BEGIN:DAYLIGHT
TZOFFSETFROM:-0600
TZOFFSETTO:-0500
TZNAME:CDT
DTSTART:20230312T080000
END:DAYLIGHT
BEGIN:STANDARD
TZOFFSETFROM:-0500
TZOFFSETTO:-0600
TZNAME:CST
DTSTART:20231105T070000
END:STANDARD
END:VTIMEZONE
BEGIN:VEVENT
DTSTART;TZID=America/Chicago:20231011T180000
DTEND;TZID=America/Chicago:20231011T200000
DTSTAMP:20260423T110034
CREATED:20231008T000509Z
LAST-MODIFIED:20231008T000509Z
UID:4185-1697047200-1697054400@greenwaydev.tpidev7.com
SUMMARY:Big Muddy Speaker Series Oct. 2023
DESCRIPTION:BMSS at Bike Stop Cafe for “Planting Trees and Enriching Communities”\nSocial Hour 6PM\, Presentation 7PM \nJoin us on Wednesday October 11 for “Planting Trees and Enriching Communities: Forest ReLeaf of Missouri’s mission to grow tree canopy for a greener future” by Meridith McAvoy Perkins\, Executive Director of Forest ReLeaf. \nWe need trees. For the air we breathe\, the water we use\, and the wildlife we love. Trees benefit the greater good in ways that most of us don’t think of. The countless benefits of trees are worth finding creative solutions. That’s why Forest ReLeaf of Missouri works with community groups\, individuals\, municipal governments\, under-resourced communities and non-profits in order to steward the expansion of native tree growth across Missouri. Learn more about the programs offered and what you can do!
URL:https://greenwaydev.tpidev7.com/event/big-muddy-speaker-series-oct-2023/
LOCATION:Bike Stop Cafe\, 701 S. Riverside Dr\, Saint Charles\, MO\, 63301\, United States
END:VEVENT
END:VCALENDAR