BEGIN:VCALENDAR
VERSION:2.0
PRODID:-//Greenway Network - ECPv6.0.9//NONSGML v1.0//EN
CALSCALE:GREGORIAN
METHOD:PUBLISH
X-ORIGINAL-URL:https://greenwaydev.tpidev7.com
X-WR-CALDESC:Events for Greenway Network
REFRESH-INTERVAL;VALUE=DURATION:PT1H
X-Robots-Tag:noindex
X-PUBLISHED-TTL:PT1H
BEGIN:VTIMEZONE
TZID:America/Chicago
BEGIN:DAYLIGHT
TZOFFSETFROM:-0600
TZOFFSETTO:-0500
TZNAME:CDT
DTSTART:20230312T080000
END:DAYLIGHT
BEGIN:STANDARD
TZOFFSETFROM:-0500
TZOFFSETTO:-0600
TZNAME:CST
DTSTART:20231105T070000
END:STANDARD
END:VTIMEZONE
BEGIN:VEVENT
DTSTART;TZID=America/Chicago:20231008T083000
DTEND;TZID=America/Chicago:20231008T133000
DTSTAMP:20260423T110115
CREATED:20230904T231602Z
LAST-MODIFIED:20230904T232100Z
UID:4171-1696753800-1696771800@greenwaydev.tpidev7.com
SUMMARY:Honeysuckle Hack
DESCRIPTION:Join Greenway Network to remove invasive honeysuckle from Wapelhorst Park! This nonnative plant is taking over and choking out the native understory plants\, creating an ecological disaster. Help stop this weed from taking over our park and have some fun too! For ages 12 and up\, but minors must be accompanied by a supervising adult. \nBe sure to dress for the weather. Wear sturdy shoes. Bring a water bottle. Bring gloves. Be prepared to get outside and make a difference. \nFor details and registration\, go to- http://greenwaydev.tpidev7.com/participate/honeysuckle-bash/
URL:https://greenwaydev.tpidev7.com/event/2023-honeysuckle-hack/
LOCATION:Wapelhorst Park\, 1875 Muegge Rd\, St. Charles\, MO\, 63303\, United States
END:VEVENT
END:VCALENDAR