BEGIN:VCALENDAR
VERSION:2.0
PRODID:-//Greenway Network - ECPv6.0.9//NONSGML v1.0//EN
CALSCALE:GREGORIAN
METHOD:PUBLISH
X-ORIGINAL-URL:https://greenwaydev.tpidev7.com
X-WR-CALDESC:Events for Greenway Network
REFRESH-INTERVAL;VALUE=DURATION:PT1H
X-Robots-Tag:noindex
X-PUBLISHED-TTL:PT1H
BEGIN:VTIMEZONE
TZID:UTC
BEGIN:STANDARD
TZOFFSETFROM:+0000
TZOFFSETTO:+0000
TZNAME:UTC
DTSTART:20230101T000000
END:STANDARD
END:VTIMEZONE
BEGIN:VEVENT
DTSTART;VALUE=DATE:20230923
DTEND;VALUE=DATE:20230924
DTSTAMP:20260423T124051
CREATED:20230203T112200Z
LAST-MODIFIED:20230808T051459Z
UID:3975-1695427200-1695513599@greenwaydev.tpidev7.com
SUMMARY:National Public Lands Day 2023
DESCRIPTION:National Public Lands Day 2023 is September 23. Join us for the 30th annual National Public Lands Day (NPLD) on September 23\, 2023 by signing up at http://greenwaydev.tpidev7.com/participate/national-public-lands-day/
URL:https://greenwaydev.tpidev7.com/event/national-public-lands-day-2023/
END:VEVENT
END:VCALENDAR