BEGIN:VCALENDAR
VERSION:2.0
PRODID:-//Greenway Network - ECPv6.0.9//NONSGML v1.0//EN
CALSCALE:GREGORIAN
METHOD:PUBLISH
X-ORIGINAL-URL:https://greenwaydev.tpidev7.com
X-WR-CALDESC:Events for Greenway Network
REFRESH-INTERVAL;VALUE=DURATION:PT1H
X-Robots-Tag:noindex
X-PUBLISHED-TTL:PT1H
BEGIN:VTIMEZONE
TZID:UTC
BEGIN:STANDARD
TZOFFSETFROM:+0000
TZOFFSETTO:+0000
TZNAME:UTC
DTSTART:20230101T000000
END:STANDARD
END:VTIMEZONE
BEGIN:VEVENT
DTSTART;TZID=UTC:20230826T110000
DTEND;TZID=UTC:20230826T170000
DTSTAMP:20260423T135430
CREATED:20230117T084830Z
LAST-MODIFIED:20230808T065819Z
UID:3969-1693047600-1693069200@greenwaydev.tpidev7.com
SUMMARY:Race for the Rivers
DESCRIPTION:Whether you’re an avid paddler looking to get in on a competitive river race\, or simply in search of laid-back family fun\, Race for the Rivers is the event you’ve been searching for! With water education\, restoration\, and recreation as the focus\, Greenway Network stages this fun paddling event every year. \nPaddle for 20 or 30 miles on the Missouri River\, finishing at Blanchette Landing. The festival runs from 11 am until the last paddler comes off the river. Register now (NLT noon on Monday 8/21) at https://www.racefortherivers.org/
URL:https://greenwaydev.tpidev7.com/event/race-for-the-rivers-2023/
LOCATION:Blanchette Landing\, 100 Olive Street\, St. Charles\, MO\, 63301\, United States
END:VEVENT
END:VCALENDAR