BEGIN:VCALENDAR
VERSION:2.0
PRODID:-//Greenway Network - ECPv6.0.9//NONSGML v1.0//EN
CALSCALE:GREGORIAN
METHOD:PUBLISH
X-WR-CALNAME:Greenway Network
X-ORIGINAL-URL:https://greenwaydev.tpidev7.com
X-WR-CALDESC:Events for Greenway Network
REFRESH-INTERVAL;VALUE=DURATION:PT1H
X-Robots-Tag:noindex
X-PUBLISHED-TTL:PT1H
BEGIN:VTIMEZONE
TZID:UTC
BEGIN:STANDARD
TZOFFSETFROM:+0000
TZOFFSETTO:+0000
TZNAME:UTC
DTSTART:20230101T000000
END:STANDARD
END:VTIMEZONE
BEGIN:VEVENT
DTSTART;TZID=UTC:20230809T190000
DTEND;TZID=UTC:20230809T200000
DTSTAMP:20260423T135240
CREATED:20230808T044656Z
LAST-MODIFIED:20230808T044656Z
UID:4144-1691607600-1691611200@greenwaydev.tpidev7.com
SUMMARY:No BMSS in August
DESCRIPTION:There will be no Big Muddy Speaker Series in August 2023. Join us on Sept. 13 for Roo from Big Muddy Adventures!
URL:https://greenwaydev.tpidev7.com/event/no-bmss-august2023/
END:VEVENT
END:VCALENDAR