BEGIN:VCALENDAR
VERSION:2.0
PRODID:-//Greenway Network - ECPv6.0.9//NONSGML v1.0//EN
CALSCALE:GREGORIAN
METHOD:PUBLISH
X-ORIGINAL-URL:https://greenwaydev.tpidev7.com
X-WR-CALDESC:Events for Greenway Network
REFRESH-INTERVAL;VALUE=DURATION:PT1H
X-Robots-Tag:noindex
X-PUBLISHED-TTL:PT1H
BEGIN:VTIMEZONE
TZID:UTC
BEGIN:STANDARD
TZOFFSETFROM:+0000
TZOFFSETTO:+0000
TZNAME:UTC
DTSTART:20230101T000000
END:STANDARD
END:VTIMEZONE
BEGIN:VEVENT
DTSTART;TZID=UTC:20230712T180000
DTEND;TZID=UTC:20230712T200000
DTSTAMP:20260423T152525
CREATED:20230711T073714Z
LAST-MODIFIED:20230711T073714Z
UID:4107-1689184800-1689192000@greenwaydev.tpidev7.com
SUMMARY:Big Muddy Speaker Series July 12
DESCRIPTION:Uniting Missouri Stream Teams in our Great Rivers State: A Look at Advocacy\, Education and Stewardship\nPresentation by Mary Culler\, Executive Director of Stream Teams United\n7 p.m. presentation (6 p.m. Social Hour)\nBike Stop Café\, 701 S Riverside Drive\, St. Charles\, MO (indoors if raining\, or on patio)\nPresentation is FREE and open to the public! \nStream Teams United serves as the statewide non-profit partner of the Missouri Stream Team Program and is a coalition of 23 Stream Team Associations that each work collaboratively in their local watersheds to conserve and improve Missouri’s waterways. Mary will discuss current Advocacy\, Education\, and Stewardship efforts throughout Missouri\, including ways to be involved in advocating for our rivers and continuing to grow the Missouri Stream Team community. Plus\, she will share a glimpse of the upcoming 2023 Paddle MO Capitol to Capitol Missouri River adventure – including special guests\, new destinations\, and opportunities for connecting more people to the Missouri River. See other details HERE
URL:https://greenwaydev.tpidev7.com/event/big-muddy-speaker-series-july-12/
LOCATION:Bike Stop Cafe\, 701 S. Riverside Dr\, Saint Charles\, MO\, 63301\, United States
END:VEVENT
END:VCALENDAR