BEGIN:VCALENDAR
VERSION:2.0
PRODID:-//Greenway Network - ECPv6.0.9//NONSGML v1.0//EN
CALSCALE:GREGORIAN
METHOD:PUBLISH
X-ORIGINAL-URL:https://greenwaydev.tpidev7.com
X-WR-CALDESC:Events for Greenway Network
REFRESH-INTERVAL;VALUE=DURATION:PT1H
X-Robots-Tag:noindex
X-PUBLISHED-TTL:PT1H
BEGIN:VTIMEZONE
TZID:UTC
BEGIN:STANDARD
TZOFFSETFROM:+0000
TZOFFSETTO:+0000
TZNAME:UTC
DTSTART:20230101T000000
END:STANDARD
END:VTIMEZONE
BEGIN:VEVENT
DTSTART;VALUE=DATE:20230415
DTEND;VALUE=DATE:20230417
DTSTAMP:20260423T195919
CREATED:20230114T033622Z
LAST-MODIFIED:20240226T184323Z
UID:3965-1681516800-1681689599@greenwaydev.tpidev7.com
SUMMARY:Spring 2023 Dardenne Creek Monitoring
DESCRIPTION:Join Greenway Network on this twice-a-year adventure to monitor Dardenne Creek. Experienced Stream Team volunteers can go out to one or more sites and do a complete water quality monitoring protocol. This is a great opportunity for anyone who is new to Stream Team and wants to test their skills with some experienced backup.  People who are interested in learning more about Stream Team or water quality monitoring are also invited to participate. \nPlease contact Larry Ruff at greenwaynetwork@gmail.com to help us with this important and fun event.
URL:https://greenwaydev.tpidev7.com/event/spring2023-dardennecreek-monitoring/
END:VEVENT
END:VCALENDAR