BEGIN:VCALENDAR
VERSION:2.0
PRODID:-//Greenway Network - ECPv6.0.9//NONSGML v1.0//EN
CALSCALE:GREGORIAN
METHOD:PUBLISH
X-ORIGINAL-URL:https://greenwaydev.tpidev7.com
X-WR-CALDESC:Events for Greenway Network
REFRESH-INTERVAL;VALUE=DURATION:PT1H
X-Robots-Tag:noindex
X-PUBLISHED-TTL:PT1H
BEGIN:VTIMEZONE
TZID:UTC
BEGIN:STANDARD
TZOFFSETFROM:+0000
TZOFFSETTO:+0000
TZNAME:UTC
DTSTART:20230101T000000
END:STANDARD
END:VTIMEZONE
BEGIN:VEVENT
DTSTART;TZID=UTC:20230325T080000
DTEND;TZID=UTC:20230325T080000
DTSTAMP:20260423T213634
CREATED:20221231T044257Z
LAST-MODIFIED:20230325T005935Z
UID:3930-1679731200-1679731200@greenwaydev.tpidev7.com
SUMMARY:Mission: Clean Stream/ Greg Poleski Memorial Cleanup
DESCRIPTION:March 24 UPDATE: The Greg Poleski Memorial Clean-up at Cora Island\, scheduled for Saturday March 25\, will be rescheduled. Unfortunately\, the parking lot is too muddy\, and if it continues to rain\, the access road can become impassible. \nMission: Clean Stream is taking place all across the County on Saturday. Most of the other locations do not have the same access issues that Cora has\, so they typically take place rain or shine. We would love it if you would participate at one of those sites. You may contact the municipalities directly to see if they can use your help\, or you can check on the Mission: Clean Stream and/or their Facebook pages or websites for updates. For those locations\, click HERE to view details for MCS events across St Charles County. \nThanks and we hope to see you soon! \n\n\n\n\nMission: Clean Stream Registration\n\n\n\n\n\n\n\n\n    Event\n        *\n    \n    					\n					 CORA ISLAND is POSTPONED!   The parking lot is too muddy and if we get more rain the access road can become imppassible.  We will email you with updated dates as soon as it becomes availble. March 25  M:CS @Cora Island   8:30  - noon  Weather Permitting.  Dress for the weather.  Be prepared to walk.  Bring a light snack.\n\n    \n    \n\n\nVolunteer Info\n\n\n\n    Name\n        *\n    \n    \n    \n    \n\n\n    Address\n        *\n    \n    \n\n	Address\n\n\n	\n		Street Address	\n		\n	Street Address\n\n	\n		Apt./Building/Suite #	\n		\n	Apt./Building/Suite #\n\n	\n		City	\n		\n	City\n\n	\n		State	\n			\n			\n				 			\n			AlabamaAlaskaArkansasArizonaCaliforniaColoradoConnecticutDelawareDistrict of ColumbiaFloridaGeorgiaHawaiiIdahoIllinoisIndianaIowaKansasKentuckyLouisianaMaineMarylandMassachusettsMichiganMinnesotaMississippiMissouriMontanaNebraskaNevadaNew HampshireNew JerseyNew MexicoNew YorkNorth CarolinaNorth DakotaOhioOklahomaOregonPennsylvaniaRhode IslandSouth CarolinaSouth DakotaTennesseeTexasUtahVermontVirginiaWashingtonWest VirginiaWisconsinWyoming		\n	State\n\n	\n		Zip	\n		\n	Zip\n\n\n\n    \n    \n\n\n    Email\n        *\n    \n    \n    \n    \n\n\n    Phone\n        *\n    \n    \n    \n    \n\n\n\nEmergency Contact\n\n\n\n    Emergency Contact Name\n        *\n    \n    \n    \n    \n\n\n    Emergency Contact Phone\n        *\n    \n    \n    \n    \n\n\n\nGroup/Family Info\n\n\n\n    I am a Member of a Group/Family\n        *\n    \n    					\n					 Yes\n					\n					 No\n\n    \n    \n\n\n    Name of Group/Family\n        \n    \n    \n    \n    \n\n\n    Family Member 1 Name\n        \n    \n    \n    \n    \n\n\n    Family Member 1 Age\n        \n    \n    					\n					 18 or Older\n					\n					 Under 18\n\n    \n    \n\n\n    Family Member 2 Name\n        \n    \n    \n    \n    \n\n\n    Family Member 2 Age\n        \n    \n    					\n					 18 or Older\n					\n					 Under 18\n\n    \n    \n\n\n    Family Member 3 Name\n        \n    \n    \n    \n    \n\n\n    Family Member 3 Age\n        \n    \n    					\n					 18 or Older\n					\n					 Under 18\n\n    \n    \n\n\n    Family Member 4 Name\n        \n    \n    \n    \n    \n\n\n    Family Member 4 Age\n        \n    \n    					\n					 18 or Older\n					\n					 Under 18\n\n    \n    \n\n\n    Family Member 5 Name\n        \n    \n    \n    \n    \n\n\n    Family Member 5 Age\n        \n    \n    					\n					 18 or Older\n					\n					 Under 18\n\n    \n    \n\n\n\nWaiver\n\n\n\n    Did you download and print the waiver form?\n        *\n    \n    					\n					 Yes\n					\n					 No\n\n    \n    \n\n\n\n    reCAPTCHA\n        \n    \n    \n    \n    \n\n	\n				\n				\n					If you are human\, leave this field blank.				\n				\n			\n		\n\nSubmit\n\n\n\n\n\n\n\n\n 
URL:https://greenwaydev.tpidev7.com/event/mcs-gregpoleski-cleanup-2023/
LOCATION:Cora Island\, Cora Island Road off Red School Road\, West Alton\, MO\, 63386
END:VEVENT
END:VCALENDAR