BEGIN:VCALENDAR
VERSION:2.0
PRODID:-//Greenway Network - ECPv6.0.9//NONSGML v1.0//EN
CALSCALE:GREGORIAN
METHOD:PUBLISH
X-WR-CALNAME:Greenway Network
X-ORIGINAL-URL:https://greenwaydev.tpidev7.com
X-WR-CALDESC:Events for Greenway Network
REFRESH-INTERVAL;VALUE=DURATION:PT1H
X-Robots-Tag:noindex
X-PUBLISHED-TTL:PT1H
BEGIN:VTIMEZONE
TZID:UTC
BEGIN:STANDARD
TZOFFSETFROM:+0000
TZOFFSETTO:+0000
TZNAME:UTC
DTSTART:20230101T000000
END:STANDARD
END:VTIMEZONE
BEGIN:VEVENT
DTSTART;TZID=UTC:20230308T180000
DTEND;TZID=UTC:20230308T200000
DTSTAMP:20260423T213337
CREATED:20230308T094945Z
LAST-MODIFIED:20230308T094945Z
UID:3998-1678298400-1678305600@greenwaydev.tpidev7.com
SUMMARY:Big Muddy Speaker Series
DESCRIPTION:BMSS now at Bike Stop Cafe\n701 S. Riverside Drive in Saint Charles – also accessible from Main Street at the corner of Perry\nhttps://www.bikestopcafes.com/cafe \nWebster Groves Nature Study Society: Stimulating Interest in Nature Study since 1920\nPete Kozich with the Webster Groves Nature Study Society\n6:00 p.m. Social Hour\n7:00 p.m. Presentation\nPresentation is FREE and open to the public! \nPete will discuss the history and interests of the Webster Groves Nature Study Society (WGNSS)\, which include entomology\, botany\, and ornithology. He will also share past nature photography winners from the groups photography club. One of the oldest nature groups in the area\, the WGNSS has regular field trips\, and the Society at large meets monthly to enjoy lectures by guests or members knowledgeable in diverse aspects of nature.
URL:https://greenwaydev.tpidev7.com/event/bigmuddyspeakerseries-20230308/
LOCATION:Bike Stop Cafe\, 701 S. Riverside Dr\, Saint Charles\, MO\, 63301\, United States
END:VEVENT
END:VCALENDAR