BEGIN:VCALENDAR
VERSION:2.0
PRODID:-//Greenway Network - ECPv6.0.9//NONSGML v1.0//EN
CALSCALE:GREGORIAN
METHOD:PUBLISH
X-WR-CALNAME:Greenway Network
X-ORIGINAL-URL:https://greenwaydev.tpidev7.com
X-WR-CALDESC:Events for Greenway Network
REFRESH-INTERVAL;VALUE=DURATION:PT1H
X-Robots-Tag:noindex
X-PUBLISHED-TTL:PT1H
BEGIN:VTIMEZONE
TZID:UTC
BEGIN:STANDARD
TZOFFSETFROM:+0000
TZOFFSETTO:+0000
TZNAME:UTC
DTSTART:20230101T000000
END:STANDARD
END:VTIMEZONE
BEGIN:VEVENT
DTSTART;TZID=UTC:20230225T090000
DTEND;TZID=UTC:20230225T150000
DTSTAMP:20260424T005245
CREATED:20221230T014450Z
LAST-MODIFIED:20230103T015929Z
UID:3918-1677315600-1677337200@greenwaydev.tpidev7.com
SUMMARY:Special Handling Seminar for Team Leaders and Clean Up Organizers
DESCRIPTION:Each year Greenway Network\, in conjunction with MO Stream Team\, brings together experts from all areas to talk about how to deal with trash and situations that are outside of the usual straws and water bottles.  This includes things like tanks and barrels that might contain toxic substances\, needles and sharps\, medical waste and things that might require the intervention of law enforcement.  We know these things don’t happen every day\, but we want to make sure that team leaders and project coordinators are prepared for their unlikely occurrence. \nThis year the seminar will take place at the Headquarters of the USFWS’ Big Muddy Wildlife Refuge in Boonville from 9 am until 3 pm.  Lunch will be available.  A donation of $10 is suggested to offset the cost of the meal. \nRegistration for the on-line virtual option will open closer to the event. \nSpace is extremely limited. Register below: \n\n\n\n\nTeam Leader Special Handling Training Session\nTeam Leader Special Handling Training Session\nThis virtual training is for anyone who is planning or pre-scouting for cleanups and works with volunteers cleaning up floodplains\, rivers and streams.  It addresses how to identify\, mark and when and where to report hazards such as barrels\, tanks\, needles and more.  The virtual and in person sessions will start at 9 am on the last Saturday in February and run until approximately 3 pm with a few short breaks.  Instructions for connecting will be emailed to you a few days before the session.   \nThis seminar is presented by Greenway Network\, Inc in conjunction with Missouri Stream Team. \n\n\n\n\n\n\n\nVolunteer Info\n\n\n\n    Name\n        *\n    \n    \n    \n    \n\n\n    Address\n        *\n    \n    \n\n	Address\n\n\n	\n		Street Address	\n		\n	Street Address\n\n	\n		Apt./Building/Suite #	\n		\n	Apt./Building/Suite #\n\n	\n		City	\n		\n	City\n\n	\n		State	\n			\n			\n				 			\n			AlabamaAlaskaArkansasArizonaCaliforniaColoradoConnecticutDelawareDistrict of ColumbiaFloridaGeorgiaHawaiiIdahoIllinoisIndianaIowaKansasKentuckyLouisianaMaineMarylandMassachusettsMichiganMinnesotaMississippiMissouriMontanaNebraskaNevadaNew HampshireNew JerseyNew MexicoNew YorkNorth CarolinaNorth DakotaOhioOklahomaOregonPennsylvaniaRhode IslandSouth CarolinaSouth DakotaTennesseeTexasUtahVermontVirginiaWashingtonWest VirginiaWisconsinWyoming		\n	State\n\n	\n		Zip	\n		\n	Zip\n\n\n\n    \n    \n\n\n    Email\n        *\n    \n    \n    \n    \n\n\n    Phone\n        *\n    \n    \n    \n    \n\n\n\n    Stream Team Number (if you have one)\n        \n    \n    \n    \n    \n\n\n    reCAPTCHA\n        \n    \n    \n    \n    \n\n\n    Text\n        \n    \n    \n    \n    \n\n	\n				\n				\n					If you are human\, leave this field blank.				\n				\n			\n		\n\nSubmit
URL:https://greenwaydev.tpidev7.com/event/special-handling-seminar-for-team-leaders-and-clean-up-organizers/
LOCATION:Big Muddy Wildlife Refuge Headquarters\, 18500 Brady Lane\, Boonville\, MO\, 65233-3126\, United States
END:VEVENT
END:VCALENDAR