BEGIN:VCALENDAR
VERSION:2.0
PRODID:-//Greenway Network - ECPv6.0.9//NONSGML v1.0//EN
CALSCALE:GREGORIAN
METHOD:PUBLISH
X-ORIGINAL-URL:https://greenwaydev.tpidev7.com
X-WR-CALDESC:Events for Greenway Network
REFRESH-INTERVAL;VALUE=DURATION:PT1H
X-Robots-Tag:noindex
X-PUBLISHED-TTL:PT1H
BEGIN:VTIMEZONE
TZID:UTC
BEGIN:STANDARD
TZOFFSETFROM:+0000
TZOFFSETTO:+0000
TZNAME:UTC
DTSTART:20220101T000000
END:STANDARD
END:VTIMEZONE
BEGIN:VEVENT
DTSTART;TZID=UTC:20221105T083000
DTEND;TZID=UTC:20221105T123000
DTSTAMP:20260424T070830
CREATED:20221011T065732Z
LAST-MODIFIED:20230519T182758Z
UID:3888-1667637000-1667651400@greenwaydev.tpidev7.com
SUMMARY:Wild Waterway Rescue
DESCRIPTION:This is it.  This is how you help the St Louis Zoo become the reigning Wild Waterway Rescue Champion in the State of Missouri!  Zoo lovers from St Louis\, Kansas City and Springfield will be collecting trash on the weekend of November 5.  The group that collects the most trash  (lbs per person) wins. Dress for the weather.  Wear sturdy shoes. Bring a water bottle and wear gloves. \nRendezvous in the gravel lot at Columbia Bottom Conservation area.  Check-in and site selection will run from 8:30 – 9:30.  Clean up will take place until 12:30. We will be cleaning up in North St Louis/St Louis County in the area of Wildcare Park. \n\n\n\n\nHall Street Registration\n\n\n\n\n\n\n\n\nVolunteer Info\n\n\n\n    Name\n        *\n    \n    \n    \n    \n\n\n    Address\n        *\n    \n    \n\n	Address\n\n\n	\n		Street Address	\n		\n	Street Address\n\n	\n		Apt./Building/Suite #	\n		\n	Apt./Building/Suite #\n\n	\n		City	\n		\n	City\n\n	\n		State	\n			\n			\n				 			\n			AlabamaAlaskaArkansasArizonaCaliforniaColoradoConnecticutDelawareDistrict of ColumbiaFloridaGeorgiaHawaiiIdahoIllinoisIndianaIowaKansasKentuckyLouisianaMaineMarylandMassachusettsMichiganMinnesotaMississippiMissouriMontanaNebraskaNevadaNew HampshireNew JerseyNew MexicoNew YorkNorth CarolinaNorth DakotaOhioOklahomaOregonPennsylvaniaRhode IslandSouth CarolinaSouth DakotaTennesseeTexasUtahVermontVirginiaWashingtonWest VirginiaWisconsinWyoming		\n	State\n\n	\n		Zip/Postal	\n		\n	Zip/Postal\n\n\n\n    \n    \n\n\n    Age\n        *\n    \n    \n    \n    \n\n\n    Email\n        *\n    \n    \n    \n    \n\n\n    Phone\n        *\n    \n    \n    \n    \n\n\n\nEmergency Contact\n\n\n\n    Emergency Contact Name\n        *\n    \n    \n    \n    \n\n\n    Emergency Contact Phone\n        *\n    \n    \n    \n    \n\n\n\nMeet at Columbia Bottom Visitor Center Gravel Lot (801 Strodtman Rd\, St. Louis\, MO 631380)  Dress for the weather.  Wear sturdy shoes.  Bring gloves and a water bottle.  \n\n\n\n\nGroup/Family Info\n\n\n\n    I am a Member of a Group/Family\n        *\n    \n    					\n					 Yes\n					\n					 No\n\n    \n    \n\n\n    Name of Group/Family\n        \n    \n    \n    \n    \n\n\n    Family Member 1 Name\n        \n    \n    \n    \n    \n\n\n    Family Member 1 Age\n        \n    \n    					\n					 18 or Older\n					\n					 Under 18\n\n    \n    \n\n\n    Family Member 2 Name\n        \n    \n    \n    \n    \n\n\n    Family Member 2 Age\n        \n    \n    					\n					 18 or Older\n					\n					 Under 18\n\n    \n    \n\n\n    Family Member 3 Name\n        \n    \n    \n    \n    \n\n\n    Family Member 3 Age\n        \n    \n    					\n					 18 or Older\n					\n					 Under 18\n\n    \n    \n\n\n    Family Member 4 Name\n        \n    \n    \n    \n    \n\n\n    Family Member 4 Age\n        \n    \n    					\n					 18 or Older\n					\n					 Under 18\n\n    \n    \n\n\n    Family Member 5 Name\n        \n    \n    \n    \n    \n\n\n    Family Member 5 Age\n        \n    \n    					\n					 18 or Older\n					\n					 Under 18\n\n    \n    \n\n\n\nWaiver\n\n\n\n    Did you download and print the waiver form?\n        *\n    \n    					\n					 Yes\n					\n					 No\n\n    If not\, you can access the form here.\n    \n\n\n\n    reCAPTCHA\n        \n    \n    \n    \n    \n\n\n    Text\n        \n    \n    \n    \n    \n\n	\n				\n				\n					If you are human\, leave this field blank.				\n				\n			\n		\n\nSubmit
URL:https://greenwaydev.tpidev7.com/event/wild-waterway-rescue/
LOCATION:Columbia Bottom Visitor Center\, 801 Strodtman Road\, St Louis\, MO\, 3138\, United States
END:VEVENT
END:VCALENDAR