BEGIN:VCALENDAR
VERSION:2.0
PRODID:-//Greenway Network - ECPv6.0.9//NONSGML v1.0//EN
CALSCALE:GREGORIAN
METHOD:PUBLISH
X-ORIGINAL-URL:https://greenwaydev.tpidev7.com
X-WR-CALDESC:Events for Greenway Network
REFRESH-INTERVAL;VALUE=DURATION:PT1H
X-Robots-Tag:noindex
X-PUBLISHED-TTL:PT1H
BEGIN:VTIMEZONE
TZID:America/Chicago
BEGIN:DAYLIGHT
TZOFFSETFROM:-0600
TZOFFSETTO:-0500
TZNAME:CDT
DTSTART:20200308T080000
END:DAYLIGHT
BEGIN:STANDARD
TZOFFSETFROM:-0500
TZOFFSETTO:-0600
TZNAME:CST
DTSTART:20201101T070000
END:STANDARD
END:VTIMEZONE
BEGIN:VEVENT
DTSTART;VALUE=DATE:20201010
DTEND;VALUE=DATE:20201011
DTSTAMP:20260425T172218
CREATED:20190723T003810Z
LAST-MODIFIED:20230904T231915Z
UID:1657-1602288000-1602374399@greenwaydev.tpidev7.com
SUMMARY:Honeysuckle Bash
DESCRIPTION:THIS EVENT HAS BEEN CANCELLED DUE TO COVID-19 \nAges 12 & Up // Greenway Network is organizing a Honeysuckle Bash to remove the invasive weed from public lands on and near the Missouri River. All tools and instructions to remove the honeysuckle will be provided. Please bring gloves\, a water bottle and wear sturdy shoes\, long sleeves and long pants to protect from getting poison ivy. \nOn completion\, we will have sandwiches and chips at 12:30pm for event wrap up. \nThe Boschert Greenway is a 3.81 walking and biking trail that runs between Fox Hill Park and Fountain Lake Park. The trail\, which runs along Boschert Creek\, was made possible by a partnership with Great Rivers Greenway.
URL:https://greenwaydev.tpidev7.com/event/2020-honeysuckle-bash/
LOCATION:Fox Hill Park\, 3400 Kisker Dr.\, St. Charles\, MO\, 63301\, United States
END:VEVENT
END:VCALENDAR